BEGIN:VCALENDAR
VERSION:2.0
PRODID:-//wp-events-plugin.com//7.2.3.1//EN
TZID:America/New_York
X-WR-TIMEZONE:America/New_York
BEGIN:VEVENT
UID:1227@ivhog.org
DTSTART;TZID=America/New_York:20200703T090000
DTEND;TZID=America/New_York:20200703T160000
DTSTAMP:20200622T022531Z
URL:http://www.ivhog.org/events/in-search-of-the-perfect-crab-cake/
SUMMARY:In Search of the Perfect Crab Cake
DESCRIPTION:For those that have off on Friday July 3rd\, a ride to Maryland
  in search of the perfect crab cake!  A ride thru the country side for lu
 nch!  Mostly back roads with a little bit of highway. No EZ pass but helm
 ets required for Maryland. KSU 9:00 am! http://tidewatergrille.com/\n\n
CATEGORIES:IVHOG Rides
LOCATION:WaWa Forty Foot Road\, 200 Forty Foot Rd\, Hatfield\, PA\, 19440\,
  United States
GEO:40.2629474;-75.32031889999996
X-APPLE-STRUCTURED-LOCATION;VALUE=URI;X-ADDRESS=200 Forty Foot Rd\, Hatfiel
 d\, PA\, 19440\, United States;X-APPLE-RADIUS=100;X-TITLE=WaWa Forty Foot 
 Road:geo:40.2629474,-75.32031889999996
END:VEVENT
BEGIN:VTIMEZONE
TZID:America/New_York
X-LIC-LOCATION:America/New_York
BEGIN:DAYLIGHT
DTSTART:20200308T030000
TZOFFSETFROM:-0500
TZOFFSETTO:-0400
TZNAME:EDT
END:DAYLIGHT
END:VTIMEZONE
END:VCALENDAR