BEGIN:VCALENDAR
VERSION:2.0
PRODID:-//wp-events-plugin.com//7.2.3.1//EN
TZID:America/New_York
X-WR-TIMEZONE:America/New_York
BEGIN:VEVENT
UID:1351@ivhog.org
DTSTART;TZID=America/New_York:20220528T073000
DTEND;TZID=America/New_York:20220528T160000
DTSTAMP:20220523T132653Z
URL:http://www.ivhog.org/events/indiantown-gap-national-cemetary-may-28th-
 2022/
SUMMARY:Indiantown Gap National Cemetary May 28th\, 2022
DESCRIPTION:Head to  Indiantown Gap National Cemetery\, we will meet up wi
 th the Blue Comet MC at the Skippack  WaWA and then on to Reading Motorcy
 cle Club in Oley before proceeding to Indiantown Gap. KSU 8:00 AM Sharp! 
 from the WaWa at Rt 73 and 113 in Skippack.\n\n&nbsp\;\n\n
CATEGORIES:IVHOG Rides
LOCATION:WaWa Skippack\, 4121 West Skippack Pike\, Schwenksville\, PA\, 194
 73\, United States
GEO:40.228591;-75.404699
X-APPLE-STRUCTURED-LOCATION;VALUE=URI;X-ADDRESS=4121 West Skippack Pike\, S
 chwenksville\, PA\, 19473\, United States;X-APPLE-RADIUS=100;X-TITLE=WaWa 
 Skippack:geo:40.228591,-75.404699
END:VEVENT
BEGIN:VTIMEZONE
TZID:America/New_York
X-LIC-LOCATION:America/New_York
BEGIN:DAYLIGHT
DTSTART:20220313T030000
TZOFFSETFROM:-0500
TZOFFSETTO:-0400
TZNAME:EDT
END:DAYLIGHT
END:VTIMEZONE
END:VCALENDAR