BEGIN:VCALENDAR
VERSION:2.0
PRODID:-//wp-events-plugin.com//7.2.3.1//EN
TZID:America/New_York
X-WR-TIMEZONE:America/New_York
BEGIN:VEVENT
UID:1208@ivhog.org
DTSTART;TZID=America/New_York:20200523T073000
DTEND;TZID=America/New_York:20200523T150000
DTSTAMP:20200522T204747Z
URL:http://www.ivhog.org/events/indiantown-gap-national-cemetery-may-23rd-
 2020/
SUMMARY:Back OFF! Canceled due to the forecast!: Indiantown Gap National Ce
 metery  May 23rd\, 2020
DESCRIPTION:&nbsp\;\n\nGoing to Indiantown Gap National Cemetery\, we will 
 meet up with the Blue Comet MC to ride to the WaWA by Cabelas in Hamburg f
 or staging to head out to the cemetery. KSU 8:00 AM Sharp! from the WaWa a
 t Rt 73 and 113 in Skippack. There is no ceremony this year due to the Cor
 ona virus so we are just doing a ride.\n\nSKILL LEVEL:  2\nCOST: Gas Mone
 y\nDISTANCE 150 Miles Round Trip
CATEGORIES:IVHOG Rides
LOCATION:WaWa Rt 73 &amp\; 113\, 4121 West Skippack Pike\, Schwenksville\, 
 PA\, 19473\, United States
GEO:40.228591;-75.404699
X-APPLE-STRUCTURED-LOCATION;VALUE=URI;X-ADDRESS=4121 West Skippack Pike\, S
 chwenksville\, PA\, 19473\, United States;X-APPLE-RADIUS=100;X-TITLE=WaWa 
 Rt 73 & 113:geo:40.228591,-75.404699
END:VEVENT
BEGIN:VTIMEZONE
TZID:America/New_York
X-LIC-LOCATION:America/New_York
BEGIN:DAYLIGHT
DTSTART:20200308T030000
TZOFFSETFROM:-0500
TZOFFSETTO:-0400
TZNAME:EDT
END:DAYLIGHT
END:VTIMEZONE
END:VCALENDAR