BEGIN:VCALENDAR
VERSION:2.0
PRODID:-//wp-events-plugin.com//7.2.3.1//EN
TZID:America/New_York
X-WR-TIMEZONE:America/New_York
BEGIN:VEVENT
UID:816@ivhog.org
DTSTART;TZID=America/New_York:20161203T000000
DTEND;TZID=America/New_York:20161203T000000
DTSTAMP:20161028T201626Z
URL:http://www.ivhog.org/events/inner-club-event-no-ride-motorcyclists-for
 -jesus-shady-maple/
SUMMARY:Inner Club Event\, No Ride - Motorcyclists for Jesus - Shady Maple
DESCRIPTION:December 3\, 2016   9th Annual PA state Motorcyclists for Jes
 us Ministries Christmas Party at Shady Maple Smorgasbord in East Earl \, P
 A from noon to 3 PM\n\nMUST RSVP by 11/20 to reserve. mjm@pagospeliders.c
 om\n\nFor more information log onto the Restaurant’s web site at\nhttp:/
 /www.shady-maple.com/smorgasbord\nor contact us at 215-234-8611 or e-mail 
 at mjm@pagospeliders.com or our web site\n\nhttp://www.pagospelriders.com\
 n\n&nbsp\;\n\n129 Toddy Dr\, East Earl\, PA 17519
CATEGORIES:Community Event
LOCATION:Shady Maple\, 129 Toddy Dr\, East Earl\, PA\, 17519\, United State
 s
GEO:40.118509;-76.03211999999996
X-APPLE-STRUCTURED-LOCATION;VALUE=URI;X-ADDRESS=129 Toddy Dr\, East Earl\, 
 PA\, 17519\, United States;X-APPLE-RADIUS=100;X-TITLE=Shady Maple:geo:40.1
 18509,-76.03211999999996
END:VEVENT
BEGIN:VTIMEZONE
TZID:America/New_York
X-LIC-LOCATION:America/New_York
BEGIN:STANDARD
DTSTART:20161106T010000
TZOFFSETFROM:-0400
TZOFFSETTO:-0500
TZNAME:EST
END:STANDARD
END:VTIMEZONE
END:VCALENDAR