BEGIN:VCALENDAR
VERSION:2.0
PRODID:-//wp-events-plugin.com//7.2.3.1//EN
TZID:America/New_York
X-WR-TIMEZONE:America/New_York
BEGIN:VEVENT
UID:875@ivhog.org
DTSTART;TZID=America/New_York:20180603T080000
DTEND;TZID=America/New_York:20180603T093000
DTSTAMP:20180601T125417Z
URL:http://www.ivhog.org/events/ivhog-chapter-meeting-3-2018-06-03/
SUMMARY:IVHOG Chapter Meeting - Canceled - Check back for Possible ReSchedu
 le
DESCRIPTION:IVHOG Chapter Meeting
ATTACH;FMTTYPE=image/jpeg:http://www.ivhog.org/wp-content/uploads/arrowhea
 d-sm.png
CATEGORIES:IVHOG Members Meeting
LOCATION:Hannum's Harley-Davidson Sellersville PA\, 3255 State Road\, Sell
 ersville\, PA\, 18960\, United States
GEO:40.344734;-75.305969
X-APPLE-STRUCTURED-LOCATION;VALUE=URI;X-ADDRESS=3255 State Road\, Sellersvi
 lle\, PA\, 18960\, United States;X-APPLE-RADIUS=100;X-TITLE=Hannum's Harle
 y-Davidson Sellersville PA:geo:40.344734,-75.305969
END:VEVENT
BEGIN:VTIMEZONE
TZID:America/New_York
X-LIC-LOCATION:America/New_York
BEGIN:DAYLIGHT
DTSTART:20180311T030000
TZOFFSETFROM:-0500
TZOFFSETTO:-0400
TZNAME:EDT
END:DAYLIGHT
END:VTIMEZONE
END:VCALENDAR