BEGIN:VCALENDAR
VERSION:2.0
PRODID:-//wp-events-plugin.com//7.2.3.1//EN
TZID:America/New_York
X-WR-TIMEZONE:America/New_York
BEGIN:VEVENT
UID:888@ivhog.org
DTSTART;TZID=America/New_York:20190714T090000
DTEND;TZID=America/New_York:20190714T103000
DTSTAMP:20190616T192936Z
URL:http://www.ivhog.org/events/ivhog-chapter-meeting-3-2019-07-14/
SUMMARY:IVHOG Chapter Meeting & Biker Breakfast @ Dealer
DESCRIPTION:IVHOG Chapter Meeting
ATTACH;FMTTYPE=image/jpeg:http://www.ivhog.org/wp-content/uploads/arrowhea
 d-sm.png
CATEGORIES:IVHOG Members Meeting
LOCATION:Freedom Valley Harley Davidson\, 3255 State Road\, Sellersville\, 
 Pennsylvania\, 18960\, United States
GEO:40.344262;-75.3058603
X-APPLE-STRUCTURED-LOCATION;VALUE=URI;X-ADDRESS=3255 State Road\, Sellersvi
 lle\, Pennsylvania\, 18960\, United States;X-APPLE-RADIUS=100;X-TITLE=Free
 dom Valley Harley Davidson:geo:40.344262,-75.3058603
END:VEVENT
BEGIN:VTIMEZONE
TZID:America/New_York
X-LIC-LOCATION:America/New_York
BEGIN:DAYLIGHT
DTSTART:20190310T030000
TZOFFSETFROM:-0500
TZOFFSETTO:-0400
TZNAME:EDT
END:DAYLIGHT
END:VTIMEZONE
END:VCALENDAR