BEGIN:VCALENDAR
VERSION:2.0
PRODID:-//wp-events-plugin.com//7.2.3.1//EN
TZID:America/New_York
X-WR-TIMEZONE:America/New_York
BEGIN:VEVENT
UID:1281@ivhog.org
DTSTART;TZID=America/New_York:20210711T103000
DTEND;TZID=America/New_York:20210711T150000
DTSTAMP:20210615T203125Z
URL:http://www.ivhog.org/events/kauffmans-bar-b-que-restaurant-7-11-21/
SUMMARY:Kauffman's Bar-B-Que Restaurant 7-11-21
DESCRIPTION:Kauffman's Bar-B-Que Restaurant\, 33 Gravel Pit Rd\, Bethel\, P
 A 19507\n\nApproximate distance/miles:&nbsp\;120 Round trip\nCosts: Gas\, 
 Lunch $20 a person or less\nSkill Level:&nbsp\;1-Novice\nDESCRIPTION: Wand
 er out to Kauffman's Bar-B-Que Restaurant (Cash Only) Return via Rt 78 and
  Rt 309.\nThey accept Discover\, MasterCard and Visa. There will be a 2% f
 ee added to every credit card transaction. They do not accept Bank Debit c
 ards.\n\nHelmet: Not Required\nEZ-Pass: Not Required\n Nighttime eyewear:N
 ot Required\nGuns: ALLOWED
CATEGORIES:IVHOG Rides
LOCATION:Wawa - 113 & Bethlehem Pike\, 3520 Bethlehem Pike\, Souderton\, Pa
 \, 18964\, United States
GEO:40.31885399999999;-75.3036495
X-APPLE-STRUCTURED-LOCATION;VALUE=URI;X-ADDRESS=3520 Bethlehem Pike\, Soude
 rton\, Pa\, 18964\, United States;X-APPLE-RADIUS=100;X-TITLE=Wawa - 113 & 
 Bethlehem Pike:geo:40.31885399999999,-75.3036495
END:VEVENT
BEGIN:VTIMEZONE
TZID:America/New_York
X-LIC-LOCATION:America/New_York
BEGIN:DAYLIGHT
DTSTART:20210314T030000
TZOFFSETFROM:-0500
TZOFFSETTO:-0400
TZNAME:EDT
END:DAYLIGHT
END:VTIMEZONE
END:VCALENDAR