BEGIN:VCALENDAR
VERSION:2.0
PRODID:-//wp-events-plugin.com//7.2.3.1//EN
TZID:America/New_York
X-WR-TIMEZONE:America/New_York
BEGIN:VEVENT
UID:784@ivhog.org
DTSTART;TZID=America/New_York:20161119T090000
DTEND;TZID=America/New_York:20161119T130000
DTSTAMP:20161115T012701Z
URL:http://www.ivhog.org/events/l-v-toy-run/
SUMMARY:L.V. Toy run
DESCRIPTION:KSU is 930 from the WaWa at Tollgate Road\, meeting there at 9:
 00.\n\nAlso\, all are welcome to meet for breakfast at the Quakertown Fami
 ly Restaurant on 309 north at 8:00 beforehand.
CATEGORIES:IVHOG Rides
LOCATION:wawa\, 1095 southwestend blvd\, Quakertown \, pa\, United States
GEO:40.417702;-75.343460
X-APPLE-STRUCTURED-LOCATION;VALUE=URI;X-ADDRESS=1095 southwestend blvd\, Qu
 akertown \, pa\, United States;X-APPLE-RADIUS=100;X-TITLE=wawa:geo:40.4177
 02,-75.343460
END:VEVENT
BEGIN:VTIMEZONE
TZID:America/New_York
X-LIC-LOCATION:America/New_York
BEGIN:STANDARD
DTSTART:20161106T010000
TZOFFSETFROM:-0400
TZOFFSETTO:-0500
TZNAME:EST
END:STANDARD
END:VTIMEZONE
END:VCALENDAR