BEGIN:VCALENDAR
VERSION:2.0
PRODID:-//wp-events-plugin.com//7.2.3.1//EN
TZID:America/New_York
X-WR-TIMEZONE:America/New_York
BEGIN:VEVENT
UID:1189@ivhog.org
DTSTART;TZID=America/New_York:20200412T050000
DTEND;TZID=America/New_York:20200412T063000
DTSTAMP:20200405T113241Z
URL:http://www.ivhog.org/events/lake-nockamixon-sunrise-service-2/
SUMMARY:Lake Nockamixon Sunrise Service CANCELED
DESCRIPTION:SKILL LEVEL:  2\nCOST: $ For GAS &amp\;  if you intend to go 
 out after the service for breakfast.\nDISTANCE 15 Miles one way.\n\n\n\n\n
 \n[caption id="attachment_7969" align="aligncenter" width="150"] Nighttime
  Eyewear[/caption]\n\n\n\nSunrise Service at the Lake. Due to the early st
 art time you may want to wear night time glasses and bring sunglasses for 
 later.
CATEGORIES:IVHOG Rides
LOCATION:WAWA - Unionville Pike & 309\, 2480 Bethlehem Pike\, Hatfield\, PA
 \, 19440\, United States
GEO:40.29787719999999;-75.28406510000002
X-APPLE-STRUCTURED-LOCATION;VALUE=URI;X-ADDRESS=2480 Bethlehem Pike\, Hatfi
 eld\, PA\, 19440\, United States;X-APPLE-RADIUS=100;X-TITLE=WAWA - Unionvi
 lle Pike & 309:geo:40.29787719999999,-75.28406510000002
END:VEVENT
BEGIN:VTIMEZONE
TZID:America/New_York
X-LIC-LOCATION:America/New_York
BEGIN:DAYLIGHT
DTSTART:20200308T030000
TZOFFSETFROM:-0500
TZOFFSETTO:-0400
TZNAME:EDT
END:DAYLIGHT
END:VTIMEZONE
END:VCALENDAR