BEGIN:VCALENDAR
VERSION:2.0
PRODID:-//wp-events-plugin.com//7.2.3.1//EN
TZID:America/New_York
X-WR-TIMEZONE:America/New_York
BEGIN:VEVENT
UID:1248@ivhog.org
DTSTART;TZID=America/New_York:20210821T090000
DTEND;TZID=America/New_York:20210821T130000
DTSTAMP:20210402T151254Z
URL:http://www.ivhog.org/events/ldmm-2nd-annual-pistol-poker-run/
SUMMARY:LDMM 2nd annual Pistol Poker Run
DESCRIPTION:NO ROAD CAPTAIN OR REGISTRATION FOR THIS EVENT\nGo to Claytons 
 directly\, meet everyone there.\n\nCome out and join LDMM for our 2nd annu
 al Pistol Poker Run starts at Clayton’s Hunting Range Registration start
 s @ 9:30am. $20 includes target and lunch $10 per guest. Ends at A Church 
 of Living Hope Langhorne (1271 E Maple Ave\, Langhorne\, PA 19047). Bring 
 your Range Pistol and Ammo. Firearms and Ammo are available. $150 cash pri
 ze! Chinese Auction and Door Prizes\, Music by Full Gospel Boogie Band\, A
  portion of the proceeds will go to True Light recovery.\n\nEvent by&nbsp\
 ;Last Days Motorcycle Ministry Genesis Chapter\n\nHeld at Claytons Range: 
 660 Easton Rd\, Horsham\, PA 19044\n\nSaturday\, Aug 21\, 2021 at 9:00 AM
CATEGORIES:Other Club Event
LOCATION:Clayton's Hunting & Indoor Range\, 660 Easton Rd\,\, Horsham\, PA\
 , 19044\, United States
GEO:40.188086;-75.134152
X-APPLE-STRUCTURED-LOCATION;VALUE=URI;X-ADDRESS=660 Easton Rd\,\, Horsham\,
  PA\, 19044\, United States;X-APPLE-RADIUS=100;X-TITLE=Clayton's Hunting &
  Indoor Range:geo:40.188086,-75.134152
END:VEVENT
BEGIN:VTIMEZONE
TZID:America/New_York
X-LIC-LOCATION:America/New_York
BEGIN:DAYLIGHT
DTSTART:20210314T030000
TZOFFSETFROM:-0500
TZOFFSETTO:-0400
TZNAME:EDT
END:DAYLIGHT
END:VTIMEZONE
END:VCALENDAR