BEGIN:VCALENDAR
VERSION:2.0
PRODID:-//wp-events-plugin.com//7.2.3.1//EN
TZID:America/New_York
X-WR-TIMEZONE:America/New_York
BEGIN:VEVENT
UID:916@ivhog.org
DTSTART;TZID=America/New_York:20170423T070000
DTEND;TZID=America/New_York:20170423T140000
DTSTAMP:20170421T132459Z
URL:http://www.ivhog.org/events/liberty-hog-chapter-fund-raiser-breakfast/
SUMMARY:Liberty HOG Chapter Fund Raiser Breakfast
DESCRIPTION:Highways and Traffic Congestion\nSKILL LEVEL:  2\nCOST: Breakf
 ast $10.00 per person\, Money for gas\, and possibly lunch on the way back
  if you want it.\n\n[caption id="attachment_5182" align="alignleft" width=
 "150"] HELMET REQUIRED[/caption]\n\n[caption id="attachment_5959" align="a
 lignleft" width="150"] NO GUNS ALLOWED[/caption]\n\n&nbsp\;\n\n&nbsp\;\n\n
 &nbsp\;\n\n&nbsp\;\n\n&nbsp\;\n\n
CATEGORIES:IVHOG Rides
LOCATION:wawa - Rt. 202 & 63\, 593 Dekalb Pike\, North Wales\, PA\, 19454\,
  United States
GEO:40.2345687;-75.24061489999997
X-APPLE-STRUCTURED-LOCATION;VALUE=URI;X-ADDRESS=593 Dekalb Pike\, North Wal
 es\, PA\, 19454\, United States;X-APPLE-RADIUS=100;X-TITLE=wawa - Rt. 202 
 & 63:geo:40.2345687,-75.24061489999997
END:VEVENT
BEGIN:VTIMEZONE
TZID:America/New_York
X-LIC-LOCATION:America/New_York
BEGIN:DAYLIGHT
DTSTART:20170312T030000
TZOFFSETFROM:-0500
TZOFFSETTO:-0400
TZNAME:EDT
END:DAYLIGHT
END:VTIMEZONE
END:VCALENDAR