BEGIN:VCALENDAR
VERSION:2.0
PRODID:-//wp-events-plugin.com//7.2.3.1//EN
TZID:America/New_York
X-WR-TIMEZONE:America/New_York
BEGIN:VEVENT
UID:1083@ivhog.org
DTSTART;TZID=America/New_York:20181130T180000
DTEND;TZID=America/New_York:20181130T230000
DTSTAMP:20181130T110021Z
URL:http://www.ivhog.org/events/loh-event-cigar-night/
SUMMARY:LOH Event & Cigar Night
DESCRIPTION:Friday\, November 30th\, anytime after 6 PM at Bryan and Sandy 
 Kesters house.\n\nLOH is going to make the table centerpieces for the IVHO
 G Christmas Party. Guys are going to hang out. Pizzas will be provided. Pl
 ease bring whatever you would like to drink. Cheers.\n\n\nPlease be sure t
 o sign up for this event.\n\nKesters\n\n2010 Spring Valley Rd\, Lansdale P
 A 19446\n\n&nbsp\;\n\n
CATEGORIES:Activities,LOH Ladies of Harley
LOCATION:Kester House\, to be provided\, Lansdale\, PA\, United States
X-APPLE-STRUCTURED-LOCATION;VALUE=URI;X-ADDRESS=to be provided\, Lansdale\,
  PA\, United States;X-APPLE-RADIUS=100;X-TITLE=Kester House:geo:0,0
END:VEVENT
BEGIN:VTIMEZONE
TZID:America/New_York
X-LIC-LOCATION:America/New_York
BEGIN:STANDARD
DTSTART:20181104T010000
TZOFFSETFROM:-0400
TZOFFSETTO:-0500
TZNAME:EST
END:STANDARD
END:VTIMEZONE
END:VCALENDAR