BEGIN:VCALENDAR
VERSION:2.0
PRODID:-//wp-events-plugin.com//7.2.3.1//EN
TZID:America/New_York
X-WR-TIMEZONE:America/New_York
BEGIN:VEVENT
UID:1076@ivhog.org
DTSTART;TZID=America/New_York:20180927T183000
DTEND;TZID=America/New_York:20180927T200000
DTSTAMP:20180909T205932Z
URL:http://www.ivhog.org/events/loh-meeting-green-turtle/
SUMMARY:LOH MEETING - Green Turtle
DESCRIPTION:LOH Meeting at the The Greene Turtle Sports Bar &amp\; Grille i
 n Montgomeryville\n1100 Bethlehem Pike\, North Wales\, PA 19454\n\nTopics 
 to be discussed\, year end event and Parties.
CATEGORIES:IVHOG Rides
LOCATION:The Greene Turtle Sports Bar & Grille\, 1100 Bethlehem Pike\, Nort
 h Wales\, PA\, 19454\, United States
GEO:40.2108987;-75.22570889999997
X-APPLE-STRUCTURED-LOCATION;VALUE=URI;X-ADDRESS=1100 Bethlehem Pike\, North
  Wales\, PA\, 19454\, United States;X-APPLE-RADIUS=100;X-TITLE=The Greene 
 Turtle Sports Bar & Grille:geo:40.2108987,-75.22570889999997
END:VEVENT
BEGIN:VTIMEZONE
TZID:America/New_York
X-LIC-LOCATION:America/New_York
BEGIN:DAYLIGHT
DTSTART:20180311T030000
TZOFFSETFROM:-0500
TZOFFSETTO:-0400
TZNAME:EDT
END:DAYLIGHT
END:VTIMEZONE
END:VCALENDAR