BEGIN:VCALENDAR
VERSION:2.0
PRODID:-//wp-events-plugin.com//7.2.3.1//EN
TZID:America/New_York
X-WR-TIMEZONE:America/New_York
BEGIN:VEVENT
UID:1534@ivhog.org
DTSTART;TZID=America/New_York:20261005T180000
DTEND;TZID=America/New_York:20261005T210000
DTSTAMP:20260331T153611Z
URL:http://www.ivhog.org/events/messengers-mc-bike-night-6/
SUMMARY:Messengers MC Bike Night
DESCRIPTION:Bike Night at Angy's Cafe and Ice Cream\nJoin in on the First M
 onday of every month!\nIce Cream\nShakes\nWings\nTacos\nContact Yogi - (26
 7) 994-6513\n\nClick here for the Meetup/RSVP page.
ATTACH;FMTTYPE=image/jpeg:http://www.ivhog.org/wp-content/uploads/IMG_0104
 .jpeg
CATEGORIES:Other Club Event
LOCATION:Angy's Cafe and Ice Cream\, 336 York Rd\, Warminster\, PA\, 18974\
 , United States
GEO:40.199947;-75.10188
X-APPLE-STRUCTURED-LOCATION;VALUE=URI;X-ADDRESS=336 York Rd\, Warminster\, 
 PA\, 18974\, United States;X-APPLE-RADIUS=100;X-TITLE=Angy's Cafe and Ice 
 Cream:geo:40.199947,-75.10188
END:VEVENT
BEGIN:VTIMEZONE
TZID:America/New_York
X-LIC-LOCATION:America/New_York
BEGIN:DAYLIGHT
DTSTART:20260308T030000
TZOFFSETFROM:-0500
TZOFFSETTO:-0400
TZNAME:EDT
END:DAYLIGHT
END:VTIMEZONE
END:VCALENDAR