BEGIN:VCALENDAR
VERSION:2.0
PRODID:-//wp-events-plugin.com//7.2.3.1//EN
TZID:America/New_York
X-WR-TIMEZONE:America/New_York
BEGIN:VEVENT
UID:797@ivhog.org
DTSTART;TZID=America/New_York:20160701T190000
DTEND;TZID=America/New_York:20160701T223000
DTSTAMP:20160630T203823Z
URL:http://www.ivhog.org/events/new-hope-fireworks/
SUMMARY:New Hope Fireworks
DESCRIPTION:Come join us as we head down to New Hope Friday night !!! This 
 is a Non IVHOG event open to all  KSU 7 pm..
CATEGORIES:Activities
LOCATION:wawa - Rt. 202 & 63\, 593 Dekalb Pike\, North Wales\, PA\, 19454\,
  United States
GEO:40.2345687;-75.24061489999997
X-APPLE-STRUCTURED-LOCATION;VALUE=URI;X-ADDRESS=593 Dekalb Pike\, North Wal
 es\, PA\, 19454\, United States;X-APPLE-RADIUS=100;X-TITLE=wawa - Rt. 202 
 & 63:geo:40.2345687,-75.24061489999997
END:VEVENT
BEGIN:VTIMEZONE
TZID:America/New_York
X-LIC-LOCATION:America/New_York
BEGIN:DAYLIGHT
DTSTART:20160313T030000
TZOFFSETFROM:-0500
TZOFFSETTO:-0400
TZNAME:EDT
END:DAYLIGHT
END:VTIMEZONE
END:VCALENDAR