BEGIN:VCALENDAR
VERSION:2.0
PRODID:-//wp-events-plugin.com//7.2.3.1//EN
TZID:America/New_York
X-WR-TIMEZONE:America/New_York
BEGIN:VEVENT
UID:915@ivhog.org
DTSTART;TZID=America/New_York:20170422T103000
DTEND;TZID=America/New_York:20170422T160000
DTSTAMP:20170302T193752Z
URL:http://www.ivhog.org/events/new-members-only-ride/
SUMMARY:New Members Only Ride
DESCRIPTION:New Members ride\, get acquainted with other new members and ha
 ve fun riding.\n\nRide is 50 miles one way 100 Round Trip.\n\nSkill level 
 2 ride = Intermediate Riders\n\nCosts are: GAS for bike and Lunch.
CATEGORIES:IVHOG Rides,New Members
LOCATION:Hannum's Harley-Davidson Sellersville PA\, 3255 State Road\, Sell
 ersville\, PA\, 18960\, United States
GEO:40.344734;-75.305969
X-APPLE-STRUCTURED-LOCATION;VALUE=URI;X-ADDRESS=3255 State Road\, Sellersvi
 lle\, PA\, 18960\, United States;X-APPLE-RADIUS=100;X-TITLE=Hannum's Harle
 y-Davidson Sellersville PA:geo:40.344734,-75.305969
END:VEVENT
BEGIN:VTIMEZONE
TZID:America/New_York
X-LIC-LOCATION:America/New_York
BEGIN:DAYLIGHT
DTSTART:20170312T030000
TZOFFSETFROM:-0500
TZOFFSETTO:-0400
TZNAME:EDT
END:DAYLIGHT
END:VTIMEZONE
END:VCALENDAR