BEGIN:VCALENDAR
VERSION:2.0
PRODID:-//wp-events-plugin.com//7.2.3.1//EN
TZID:America/New_York
X-WR-TIMEZONE:America/New_York
BEGIN:VEVENT
UID:818@ivhog.org
DTSTART;TZID=America/New_York:20170101T090000
DTEND;TZID=America/New_York:20170101T130000
DTSTAMP:20161106T204858Z
URL:http://www.ivhog.org/events/new-years-day-ride/
SUMMARY:New Years Day Ride
DESCRIPTION:\n\nBundle up and come on out for our Annual New Years Day Ride
  ! Depending on the weather will dictate how this ride goes . Join us for 
 Breakfast at 9 am with KSU for the ride at 10 am
CATEGORIES:IVHOG Rides
LOCATION:West Main Diner\, 805 W Main St\, Lansdale\, PA\, 19446\, United S
 tates
GEO:40.2473911;-75.29280110000002
X-APPLE-STRUCTURED-LOCATION;VALUE=URI;X-ADDRESS=805 W Main St\, Lansdale\, 
 PA\, 19446\, United States;X-APPLE-RADIUS=100;X-TITLE=West Main Diner:geo:
 40.2473911,-75.29280110000002
END:VEVENT
BEGIN:VTIMEZONE
TZID:America/New_York
X-LIC-LOCATION:America/New_York
BEGIN:STANDARD
DTSTART:20161106T010000
TZOFFSETFROM:-0400
TZOFFSETTO:-0500
TZNAME:EST
END:STANDARD
END:VTIMEZONE
END:VCALENDAR