BEGIN:VCALENDAR
VERSION:2.0
PRODID:-//wp-events-plugin.com//7.2.3.1//EN
TZID:America/New_York
X-WR-TIMEZONE:America/New_York
BEGIN:VEVENT
UID:1073@ivhog.org
DTSTART;TZID=America/New_York:20180826T080000
DTEND;TZID=America/New_York:20180826T200000
DTSTAMP:20180811T184729Z
URL:http://www.ivhog.org/events/numidia-dragway-nitro-nationals/
SUMMARY:Numidia Dragway\, Nitro Nationals
DESCRIPTION:Lansdale local Tracy Kyle will be racing.\n\nNumidia Dragway\, 
 10 Dragstrip Road\, Catawissa\, PA 570-799-5090\n\nhttp://www.numidiadragw
 ay.com\n\nKSU 8 AM\, Wawa\, Route 663 near Quakertown Turnpike exit. Ride 
 is approximately 90 miles 1 way\, about 2 ½ hours\, no toll roads.  Hann
 um's has provided 9 free tickets\, so the first 9 to sign up for the ride 
 and attend\, will be given the free tickets.  All others\, $25 at the gat
 e or $20 with HOG or Abate card.  Eliminations start at 11 AM\, stay as l
 ong as you want\, planning on return trip after finals are completed.\n\nM
 oney for gas and food (can be purchased at concession stands on site)\, or
  bring a picnic lunch. If there is interest\, we will stop somewhere on th
 e way home for dinner.\n\nIf you want to race your bike\, race requirement
 s are: bike\, helmet\, boots\, gloves.  There is a bike show and swap mee
 t during the race.  You will be able to walk thru the pits and check out 
 all the racers.\n\nIf you have never seen top fuel Harleys run\, it will d
 efinitely be an eye-opening experience for you.
CATEGORIES:IVHOG Rides
LOCATION:WAWA 663 & 476\, 1960 John Fries Hwy\, Quakertown\, PA\, 18951\, U
 nited States
GEO:40.4352935;-75.41571779999998
X-APPLE-STRUCTURED-LOCATION;VALUE=URI;X-ADDRESS=1960 John Fries Hwy\, Quake
 rtown\, PA\, 18951\, United States;X-APPLE-RADIUS=100;X-TITLE=WAWA 663 & 4
 76:geo:40.4352935,-75.41571779999998
END:VEVENT
BEGIN:VTIMEZONE
TZID:America/New_York
X-LIC-LOCATION:America/New_York
BEGIN:DAYLIGHT
DTSTART:20180311T030000
TZOFFSETFROM:-0500
TZOFFSETTO:-0400
TZNAME:EDT
END:DAYLIGHT
END:VTIMEZONE
END:VCALENDAR