BEGIN:VCALENDAR
VERSION:2.0
PRODID:-//wp-events-plugin.com//7.2.3.1//EN
TZID:America/New_York
X-WR-TIMEZONE:America/New_York
BEGIN:VEVENT
UID:1204@ivhog.org
DTSTART;TZID=America/New_York:20200822T070000
DTEND;TZID=America/New_York:20200822T190000
DTSTAMP:20200821T115627Z
URL:http://www.ivhog.org/events/penns-cave-all-day-run/
SUMMARY:Penn's Cave All Day Run has been Cancelled and will be rescheduled 
 for a later date.
DESCRIPTION:This will be an all day ride. Bring Money for Lunch\, Dinner an
 d Fuel. Web Site: https://www.pennscave.com/\nRide is classified as interm
 ediate due to the distance to be traveled that day.\n\nSKILL LEVEL: 2- Int
 ermediate Ride\nCOST: Money $20.00 Plus Food (lunch\, dinner\, snacks) &am
 p\; Gas\nDISTANCE 400 Miles Round Trip\n\n\n\n\n\n[caption id="attachment_
 7931" align="aligncenter" width="150"] E-ZPass If You have one[/caption]\n
 \n\n[caption id="attachment_7969" align="aligncenter" width="150"] Nightti
 me Eyewear[/caption]\n\n\n
CATEGORIES:IVHOG Rides
LOCATION:WAWA - Forty Foot Rd. Ralphs Corner\, 200 Forty Foot Rd. &amp\; We
 lsh Rd.\, Hatfield\, PA\, 19440\, United States
GEO:40.2630072;-75.31942379999998
X-APPLE-STRUCTURED-LOCATION;VALUE=URI;X-ADDRESS=200 Forty Foot Rd. & Welsh 
 Rd.\, Hatfield\, PA\, 19440\, United States;X-APPLE-RADIUS=100;X-TITLE=WAW
 A - Forty Foot Rd. Ralphs Corner:geo:40.2630072,-75.31942379999998
END:VEVENT
BEGIN:VTIMEZONE
TZID:America/New_York
X-LIC-LOCATION:America/New_York
BEGIN:DAYLIGHT
DTSTART:20200308T030000
TZOFFSETFROM:-0500
TZOFFSETTO:-0400
TZNAME:EDT
END:DAYLIGHT
END:VTIMEZONE
END:VCALENDAR