BEGIN:VCALENDAR
VERSION:2.0
PRODID:-//wp-events-plugin.com//7.2.3.1//EN
TZID:America/New_York
X-WR-TIMEZONE:America/New_York
BEGIN:VEVENT
UID:1282@ivhog.org
DTSTART;TZID=America/New_York:20210724T083000
DTEND;TZID=America/New_York:20210724T170000
DTSTAMP:20210723T194050Z
URL:http://www.ivhog.org/events/penns-tavern-historical-waterfront-restaur
 ant-7-24-21/
SUMMARY:Jubilee Restaurant 7-24-21
DESCRIPTION:Jubilee Restaurant\, 2067 PA-940\, Pocono Pines\, PA 18350\n\n&
 nbsp\;\n\nApproximate distance/miles: 160 Round trip\nCosts: Gas\, Lunch $
 25 a person or less\nSkill Level: 2- Longer but easy.\nDESCRIPTION: Wander
  out and back to Penn's Tavern Historical Waterfront Restaurant\nhttps://w
 ww.pennstavern.com/\nThis is a 2 hour ride each way ride plus stops.\n\nHe
 lmet: Not Required\nEZ-Pass: Not Required\n Nighttime eyewear:Not Required
 \nGuns: ALLOWED
CATEGORIES:IVHOG Rides
LOCATION:Wawa - 113 & Bethlehem Pike\, 3520 Bethlehem Pike\, Souderton\, Pa
 \, 18964\, United States
GEO:40.31885399999999;-75.3036495
X-APPLE-STRUCTURED-LOCATION;VALUE=URI;X-ADDRESS=3520 Bethlehem Pike\, Soude
 rton\, Pa\, 18964\, United States;X-APPLE-RADIUS=100;X-TITLE=Wawa - 113 & 
 Bethlehem Pike:geo:40.31885399999999,-75.3036495
END:VEVENT
BEGIN:VTIMEZONE
TZID:America/New_York
X-LIC-LOCATION:America/New_York
BEGIN:DAYLIGHT
DTSTART:20210314T030000
TZOFFSETFROM:-0500
TZOFFSETTO:-0400
TZNAME:EDT
END:DAYLIGHT
END:VTIMEZONE
END:VCALENDAR