BEGIN:VCALENDAR
VERSION:2.0
PRODID:-//wp-events-plugin.com//7.2.3.1//EN
TZID:America/New_York
X-WR-TIMEZONE:America/New_York
BEGIN:VEVENT
UID:1196@ivhog.org
DTSTART;TZID=America/New_York:20200531T083000
DTEND;TZID=America/New_York:20200531T170000
DTSTAMP:20200530T165640Z
URL:http://www.ivhog.org/events/penns-tavern-historical-waterfront-restaur
 ant/
SUMMARY:A ride to Penn Tavern\, kind of as planned.
DESCRIPTION:Wander out and back to Penn Tavern. Please note this is takeout
  only but they have tables outside and they are cool with us stopping by.\
 nThis is a 3 hour ride each way\, plus stops.\n\nThis Ride is labeled adva
 nced - due to the length of the ride. If you have not ridden this far befo
 re be prepared\, and speak to the Ride captain so we can prepare you for a
  comfortable ride.\n\nKSU by 9 am\, I will be at Wawa about 8:30.\n\nhttps
 ://www.pennstavern.com/menus-bkp\n\nSKILL LEVEL: 3-Advanced\nCOST: Money f
 or Food plus Gas\nDISTANCE 226+ Miles Round Trip
CATEGORIES:IVHOG Rides
LOCATION:Wawa - 113 & Bethlehem Pike\, 3520 Bethlehem Pike\, Souderton\, Pa
 \, 18964\, United States
GEO:40.31885399999999;-75.3036495
X-APPLE-STRUCTURED-LOCATION;VALUE=URI;X-ADDRESS=3520 Bethlehem Pike\, Soude
 rton\, Pa\, 18964\, United States;X-APPLE-RADIUS=100;X-TITLE=Wawa - 113 & 
 Bethlehem Pike:geo:40.31885399999999,-75.3036495
END:VEVENT
BEGIN:VTIMEZONE
TZID:America/New_York
X-LIC-LOCATION:America/New_York
BEGIN:DAYLIGHT
DTSTART:20200308T030000
TZOFFSETFROM:-0500
TZOFFSETTO:-0400
TZNAME:EDT
END:DAYLIGHT
END:VTIMEZONE
END:VCALENDAR