BEGIN:VCALENDAR
VERSION:2.0
PRODID:-//wp-events-plugin.com//7.2.3.1//EN
TZID:America/New_York
X-WR-TIMEZONE:America/New_York
BEGIN:VEVENT
UID:1184@ivhog.org
DTSTART;TZID=America/New_York:20200502T090000
DTEND;TZID=America/New_York:20200502T160000
DTSTAMP:20200408T001419Z
URL:http://www.ivhog.org/events/pocono-mountain-harley-davidson-grand-open
 ing/
SUMMARY:Cancelled Pocono Mountain Harley-Davidson Grand Opening
DESCRIPTION:\n\nK.S.U. 9 am
CATEGORIES:IVHOG Rides
LOCATION:Wawa - 113 & Bethlehem Pike\, 3520 Bethlehem Pike\, Souderton\, Pa
 \, 18964\, United States
GEO:40.31885399999999;-75.3036495
X-APPLE-STRUCTURED-LOCATION;VALUE=URI;X-ADDRESS=3520 Bethlehem Pike\, Soude
 rton\, Pa\, 18964\, United States;X-APPLE-RADIUS=100;X-TITLE=Wawa - 113 & 
 Bethlehem Pike:geo:40.31885399999999,-75.3036495
END:VEVENT
BEGIN:VTIMEZONE
TZID:America/New_York
X-LIC-LOCATION:America/New_York
BEGIN:DAYLIGHT
DTSTART:20200308T030000
TZOFFSETFROM:-0500
TZOFFSETTO:-0400
TZNAME:EDT
END:DAYLIGHT
END:VTIMEZONE
END:VCALENDAR