BEGIN:VCALENDAR
VERSION:2.0
PRODID:-//wp-events-plugin.com//7.2.3.1//EN
TZID:America/New_York
X-WR-TIMEZONE:America/New_York
BEGIN:VEVENT
UID:1526@ivhog.org
DTSTART;TZID=America/New_York:20260516T090000
DTEND;TZID=America/New_York:20260516T160000
DTSTAMP:20260329T125040Z
URL:http://www.ivhog.org/events/poker-run/
SUMMARY:Combat Veterans Motorcycle Association® Poker Run!
DESCRIPTION:Combat Veterans Motorcycle Association® Chapter 22-12 Poker Ru
 n!\nWest Chester Harley Davidson\n897 S Matlack St\nWest Chester\, PA\nReg
 istration 9a - 11a\nCost $20/Rider * $25 2-Up\n50/50 Raffle\nHigh/Low Priz
 es Awarded\nRain or Shine Event\nAll proceeds help support veteran causes.
 \nClick here for the Meetup/RSVP page.
ATTACH;FMTTYPE=image/jpeg:http://www.ivhog.org/wp-content/uploads/65837368
 3_122214943580300124_7443506015746456327_n.jpg
CATEGORIES:Dealership Event,Other Club Event
LOCATION:West Chester Harley Davidson\, 897 S Matlack St\, Weset Chester\, 
 PA\, United States
GEO:39.946803;-75.585841
X-APPLE-STRUCTURED-LOCATION;VALUE=URI;X-ADDRESS=897 S Matlack St\, Weset Ch
 ester\, PA\, United States;X-APPLE-RADIUS=100;X-TITLE=West Chester Harley 
 Davidson:geo:39.946803,-75.585841
END:VEVENT
BEGIN:VTIMEZONE
TZID:America/New_York
X-LIC-LOCATION:America/New_York
BEGIN:DAYLIGHT
DTSTART:20260308T030000
TZOFFSETFROM:-0500
TZOFFSETTO:-0400
TZNAME:EDT
END:DAYLIGHT
END:VTIMEZONE
END:VCALENDAR