BEGIN:VCALENDAR
VERSION:2.0
PRODID:-//wp-events-plugin.com//7.2.3.1//EN
TZID:America/New_York
X-WR-TIMEZONE:America/New_York
BEGIN:VEVENT
UID:1071@ivhog.org
DTSTART;TZID=America/New_York:20180729T103000
DTEND;TZID=America/New_York:20180729T133000
DTSTAMP:20180729T035342Z
URL:http://www.ivhog.org/events/popup-ride-italiano-delight-ride-7-29-2018
 /
SUMMARY:POPUP RIDE - Italiano Delight Ride 7/29/2018
DESCRIPTION:This is a pop-up ride\, we are going to go to Italiano Delight 
 for their AWESOME BUFFET. This ride is usually the biggest ride we have\, 
 TONS of people show up. I did it as a lat minute event\, because there was
  no scheduled ride. Welcome one\, Welcome all\, and bring a friend.\n\nRog
 er
CATEGORIES:IVHOG Rides
LOCATION:Hannum's Harley-Davidson Sellersville PA\, 3255 State Road\, Sell
 ersville\, PA\, 18960\, United States
GEO:40.344734;-75.305969
X-APPLE-STRUCTURED-LOCATION;VALUE=URI;X-ADDRESS=3255 State Road\, Sellersvi
 lle\, PA\, 18960\, United States;X-APPLE-RADIUS=100;X-TITLE=Hannum's Harle
 y-Davidson Sellersville PA:geo:40.344734,-75.305969
END:VEVENT
BEGIN:VTIMEZONE
TZID:America/New_York
X-LIC-LOCATION:America/New_York
BEGIN:DAYLIGHT
DTSTART:20180311T030000
TZOFFSETFROM:-0500
TZOFFSETTO:-0400
TZNAME:EDT
END:DAYLIGHT
END:VTIMEZONE
END:VCALENDAR