BEGIN:VCALENDAR
VERSION:2.0
PRODID:-//wp-events-plugin.com//7.2.3.1//EN
TZID:America/New_York
X-WR-TIMEZONE:America/New_York
BEGIN:VEVENT
UID:1198@ivhog.org
DTSTART;TZID=America/New_York:20200628T090000
DTEND;TZID=America/New_York:20200628T143000
DTSTAMP:20200628T102745Z
URL:http://www.ivhog.org/events/pub-447-lunch-run/
SUMMARY:Pub 447 Lunch Run\, East Stoudsburg
DESCRIPTION:This ride is ON!!!   We will track the storms during ride and
  will turn around if necessary\,  so be prepared to bail\, or take cover.
 \n\nI will reschedule this ride if shortened!!!\n\nLong Ride through to th
 e hills of the Poconos then ending up at Pub 447 - 65 Independence Rd\, Ea
 st Stroudsburg\, PA 18301\n\nSKILL LEVEL: 2-Intermediate\nCOST: Money for 
 Food and Gas\nDISTANCE 100+ miles round trip
CATEGORIES:IVHOG Rides
LOCATION:WAWA - Forty Foot Rd. Ralphs Corner\, 200 Forty Foot Rd. &amp\; We
 lsh Rd.\, Hatfield\, PA\, 19440\, United States
GEO:40.2630072;-75.31942379999998
X-APPLE-STRUCTURED-LOCATION;VALUE=URI;X-ADDRESS=200 Forty Foot Rd. & Welsh 
 Rd.\, Hatfield\, PA\, 19440\, United States;X-APPLE-RADIUS=100;X-TITLE=WAW
 A - Forty Foot Rd. Ralphs Corner:geo:40.2630072,-75.31942379999998
END:VEVENT
BEGIN:VTIMEZONE
TZID:America/New_York
X-LIC-LOCATION:America/New_York
BEGIN:DAYLIGHT
DTSTART:20200308T030000
TZOFFSETFROM:-0500
TZOFFSETTO:-0400
TZNAME:EDT
END:DAYLIGHT
END:VTIMEZONE
END:VCALENDAR