BEGIN:VCALENDAR
VERSION:2.0
PRODID:-//wp-events-plugin.com//7.2.3.1//EN
TZID:America/New_York
X-WR-TIMEZONE:America/New_York
BEGIN:VEVENT
UID:1202@ivhog.org
DTSTART;TZID=America/New_York:20200815T090000
DTEND;TZID=America/New_York:20200815T170000
DTSTAMP:20200810T221900Z
URL:http://www.ivhog.org/events/re-scheduled-gold-mine-road-lunch-run-2020
 /
SUMMARY:Gold Mine Road-Carsonville Hotel
DESCRIPTION:This is a long ride to Goldmine Road\, with a lunch stop at Car
 sonville Hotel.  This pub is a little gem in Carsonville\, PA.  The hote
 l is old school with a renovated expansive outside eating area and the foo
 d was better than expected.  They do accept credit cards\, but bring cash
  to make "Check Please" short.  The parking area off the street is car le
 ngth\, but it is graveled.  The way home will be back roads and some high
 way (Rte 78).  Weather Permitting!!  Keep checking the event post for up
 dates.\n\nThis is not a novice ride. Intermediate to advanced riders recom
 mended.\n\n&nbsp\;\n\nSKILL LEVEL: 3-Advanced\nCOST: Money for Food and Ga
 s\nDISTANCE 100 Miles Round Trip
CATEGORIES:IVHOG Rides
LOCATION:WAWA - Skippack PA #4121\, 4121 W Skippack Pike\,\, Schwenksville\
 , PA\, 19473\, United States
GEO:40.2285658;-75.40471459999998
X-APPLE-STRUCTURED-LOCATION;VALUE=URI;X-ADDRESS=4121 W Skippack Pike\,\, Sc
 hwenksville\, PA\, 19473\, United States;X-APPLE-RADIUS=100;X-TITLE=WAWA -
  Skippack PA #4121:geo:40.2285658,-75.40471459999998
END:VEVENT
BEGIN:VTIMEZONE
TZID:America/New_York
X-LIC-LOCATION:America/New_York
BEGIN:DAYLIGHT
DTSTART:20200308T030000
TZOFFSETFROM:-0500
TZOFFSETTO:-0400
TZNAME:EDT
END:DAYLIGHT
END:VTIMEZONE
END:VCALENDAR