BEGIN:VCALENDAR
VERSION:2.0
PRODID:-//wp-events-plugin.com//7.2.3.1//EN
TZID:America/New_York
X-WR-TIMEZONE:America/New_York
BEGIN:VEVENT
UID:1225@ivhog.org
DTSTART;TZID=America/New_York:20200613T083000
DTEND;TZID=America/New_York:20200613T180000
DTSTAMP:20200612T152438Z
URL:http://www.ivhog.org/events/ride-cats-of-the-world/
SUMMARY:Ride - Cats of the World
DESCRIPTION:Taking a ride to Ted's Cats of the World in Penn's Creek\, PA. 
 $10 admission **Cash Only**.&nbsp\; We will have lunch at Skeeters BBQ in 
 Shamokin Dam\, PA.&nbsp\; They have both indoor and outdoor seating.\n\nKS
 U 8:30 AM\, returning to starting point around 5-6 PM.\n\nApproximately 30
 0 miles round trip\, Skill Level - 1\, Novice.\n\nEZ Pass requested but no
 t required
ATTACH;FMTTYPE=image/jpeg:http://www.ivhog.org/wp-content/uploads/TandDCat
 sOfTheWorld.png
CATEGORIES:IVHOG Rides
LOCATION:WAWA 663 & 476\, 1960 John Fries Hwy\, Quakertown\, PA\, 18951\, U
 nited States
GEO:40.4352935;-75.41571779999998
X-APPLE-STRUCTURED-LOCATION;VALUE=URI;X-ADDRESS=1960 John Fries Hwy\, Quake
 rtown\, PA\, 18951\, United States;X-APPLE-RADIUS=100;X-TITLE=WAWA 663 & 4
 76:geo:40.4352935,-75.41571779999998
END:VEVENT
BEGIN:VTIMEZONE
TZID:America/New_York
X-LIC-LOCATION:America/New_York
BEGIN:DAYLIGHT
DTSTART:20200308T030000
TZOFFSETFROM:-0500
TZOFFSETTO:-0400
TZNAME:EDT
END:DAYLIGHT
END:VTIMEZONE
END:VCALENDAR