BEGIN:VCALENDAR
VERSION:2.0
PRODID:-//wp-events-plugin.com//7.2.3.1//EN
TZID:America/New_York
X-WR-TIMEZONE:America/New_York
BEGIN:VEVENT
UID:1550@ivhog.org
DTSTART;TZID=America/New_York:20260517T090000
DTEND;TZID=America/New_York:20260517T160000
DTSTAMP:20260425T132601Z
URL:http://www.ivhog.org/events/ride-for-the-ranch-2026/
SUMMARY:Ride for the Ranch - 2026
DESCRIPTION:All proceeds benefit Last Chance Ranch.\nSunday\, May 17th\nRai
 n date: May 31st\nRegistration opens @ 9a / Kickstands up @ 1la\n$20/Rider
 \, $10/passenger\nKeelersville Club\, 2522 Ridge Rd.\, Perkasie\, PA\nHost
 ed by Keelersville Club Community Events Committee\n\nClick here for the M
 eetup Event/RSVP page.
ATTACH;FMTTYPE=image/jpeg:http://www.ivhog.org/wp-content/uploads/ride-ran
 ch.png
CATEGORIES:Other Club Event
LOCATION:Keelersville Club House\, 2522 N. Ridge Rd\, Perkasie\, PA\, 18944
 \, United States
GEO:40.4150098;-75.2536809
X-APPLE-STRUCTURED-LOCATION;VALUE=URI;X-ADDRESS=2522 N. Ridge Rd\, Perkasie
 \, PA\, 18944\, United States;X-APPLE-RADIUS=100;X-TITLE=Keelersville Club
  House:geo:40.4150098,-75.2536809
END:VEVENT
BEGIN:VTIMEZONE
TZID:America/New_York
X-LIC-LOCATION:America/New_York
BEGIN:DAYLIGHT
DTSTART:20260308T030000
TZOFFSETFROM:-0500
TZOFFSETTO:-0400
TZNAME:EDT
END:DAYLIGHT
END:VTIMEZONE
END:VCALENDAR