BEGIN:VCALENDAR
VERSION:2.0
PRODID:-//wp-events-plugin.com//7.2.3.1//EN
TZID:America/New_York
X-WR-TIMEZONE:America/New_York
BEGIN:VEVENT
UID:909@ivhog.org
DTSTART;TZID=America/New_York:20170128T090000
DTEND;TZID=America/New_York:20170128T100000
DTSTAMP:20170126T134315Z
URL:http://www.ivhog.org/events/ride-from-hannums-sellersville-to-hannums-
 media/
SUMMARY:Ride from Hannums Sellersville to Hannums Media
DESCRIPTION:Pete wants to lead a ride from Hannums Sellersville to Hannums 
 Media Saturday morning to meet up wththeir folks and ride to Sellersvile f
 or the fire and ice event. PLEASE let Pete know no later than Friday night
  if you wish to do so. We would have to leave Sellersville no later than 9
 :00 AM in order to get to Media and head out with them\, they have KSU at 
 10:00 AM. Pete can be reached at: pfrentzen72@gmail.com
CATEGORIES:IVHOG Rides
LOCATION:Hannum's Harley-Davidson Sellersville PA\, 3255 State Road\, Sell
 ersville\, PA\, 18960\, United States
GEO:40.344734;-75.305969
X-APPLE-STRUCTURED-LOCATION;VALUE=URI;X-ADDRESS=3255 State Road\, Sellersvi
 lle\, PA\, 18960\, United States;X-APPLE-RADIUS=100;X-TITLE=Hannum's Harle
 y-Davidson Sellersville PA:geo:40.344734,-75.305969
END:VEVENT
BEGIN:VTIMEZONE
TZID:America/New_York
X-LIC-LOCATION:America/New_York
BEGIN:STANDARD
DTSTART:20161106T010000
TZOFFSETFROM:-0400
TZOFFSETTO:-0500
TZNAME:EST
END:STANDARD
END:VTIMEZONE
END:VCALENDAR