BEGIN:VCALENDAR
VERSION:2.0
PRODID:-//wp-events-plugin.com//7.2.3.1//EN
TZID:America/New_York
X-WR-TIMEZONE:America/New_York
BEGIN:VEVENT
UID:1238@ivhog.org
DTSTART;TZID=America/New_York:20201017T090000
DTEND;TZID=America/New_York:20201017T130000
DTSTAMP:20201013T203338Z
URL:http://www.ivhog.org/events/ride-to-blue-comets-crazy-coffin-joy-ride/
SUMMARY:Ride to Blue Comets Crazy Coffin Joy Ride
DESCRIPTION:Quick although not direct ride to the Blue Comets clubhouse to 
 join the Crazy Coffin Joy Ride.\n\n$20 per person\n\nKickstands Up 9:05 AM
 \, please be fueled for the complete ride.\n\nPlease see the flyer linked 
 below:\n\nClick Here\n\nhttps://bluecometmc.s3.amazonaws.com/event-flyers/
 Poker+Run+2020+-+Coffin+Run+8.5x11.pdf&nbsp\;
CATEGORIES:Other Club Event
LOCATION:Wawa - 113 & Bethlehem Pike\, 3520 Bethlehem Pike\, Souderton\, Pa
 \, 18964\, United States
GEO:40.31885399999999;-75.3036495
X-APPLE-STRUCTURED-LOCATION;VALUE=URI;X-ADDRESS=3520 Bethlehem Pike\, Soude
 rton\, Pa\, 18964\, United States;X-APPLE-RADIUS=100;X-TITLE=Wawa - 113 & 
 Bethlehem Pike:geo:40.31885399999999,-75.3036495
END:VEVENT
BEGIN:VTIMEZONE
TZID:America/New_York
X-LIC-LOCATION:America/New_York
BEGIN:DAYLIGHT
DTSTART:20200308T030000
TZOFFSETFROM:-0500
TZOFFSETTO:-0400
TZNAME:EDT
END:DAYLIGHT
END:VTIMEZONE
END:VCALENDAR