BEGIN:VCALENDAR
VERSION:2.0
PRODID:-//wp-events-plugin.com//7.2.3.1//EN
TZID:America/New_York
X-WR-TIMEZONE:America/New_York
BEGIN:VEVENT
UID:72@ivhog.org
DTSTART;TZID=America/New_York:20130615T073000
DTEND;TZID=America/New_York:20130615T193000
DTSTAMP:20130327T010538Z
URL:http://www.ivhog.org/events/ride-to-cape-may/
SUMMARY:Ride to Cape May 
DESCRIPTION:
LOCATION:Wawa - Forty Foot Rd\, 1401 Forty Foot Rd. \, Kulpsville \, Pa\, 1
 9443\, United States
GEO:40.2450176;-75.33888289999999
X-APPLE-STRUCTURED-LOCATION;VALUE=URI;X-ADDRESS=1401 Forty Foot Rd. \, Kulp
 sville \, Pa\, 19443\, United States;X-APPLE-RADIUS=100;X-TITLE=Wawa - For
 ty Foot Rd:geo:40.2450176,-75.33888289999999
END:VEVENT
BEGIN:VTIMEZONE
TZID:America/New_York
X-LIC-LOCATION:America/New_York
BEGIN:DAYLIGHT
DTSTART:20130310T030000
TZOFFSETFROM:-0500
TZOFFSETTO:-0400
TZNAME:EDT
END:DAYLIGHT
END:VTIMEZONE
END:VCALENDAR