BEGIN:VCALENDAR
VERSION:2.0
PRODID:-//wp-events-plugin.com//7.2.3.1//EN
TZID:America/New_York
X-WR-TIMEZONE:America/New_York
BEGIN:VEVENT
UID:1074@ivhog.org
DTSTART;TZID=America/New_York:20180818T120000
DTEND;TZID=America/New_York:20180818T133000
DTSTAMP:20180817T130158Z
URL:http://www.ivhog.org/events/ride-to-hog-stock/
SUMMARY:Ride to HOG Stock!
DESCRIPTION:Leaving from Hannum's taking the long way to HOG Stock\, KSU 12
 :00PM.&nbsp\; George Wagenseller will be leading.
CATEGORIES:IVHOG Rides
LOCATION:Hannum\\'s Harley Davidson\, 3255 State Rd\, Sellersville\, PA\, 1
 8960\, United States
GEO:40.343975;-75.305779
X-APPLE-STRUCTURED-LOCATION;VALUE=URI;X-ADDRESS=3255 State Rd\, Sellersvill
 e\, PA\, 18960\, United States;X-APPLE-RADIUS=100;X-TITLE=Hannum\\'s Harle
 y Davidson:geo:40.343975,-75.305779
END:VEVENT
BEGIN:VTIMEZONE
TZID:America/New_York
X-LIC-LOCATION:America/New_York
BEGIN:DAYLIGHT
DTSTART:20180311T030000
TZOFFSETFROM:-0500
TZOFFSETTO:-0400
TZNAME:EDT
END:DAYLIGHT
END:VTIMEZONE
END:VCALENDAR