BEGIN:VCALENDAR
VERSION:2.0
PRODID:-//wp-events-plugin.com//7.2.3.1//EN
TZID:America/New_York
X-WR-TIMEZONE:America/New_York
BEGIN:VEVENT
UID:807@ivhog.org
DTSTART;TZID=America/New_York:20160918T083000
DTEND;TZID=America/New_York:20160918T120000
DTSTAMP:20160915T185201Z
URL:http://www.ivhog.org/events/ride-to-line-lexington-church/
SUMMARY:Ride to Line Lexington Church
DESCRIPTION:Sunday\, September 18th. Ride to Line Lexington Church\, sponso
 red by Motorcyclist for Jesus. Trying to make this an Inter Club event. Th
 ey will be meeting and leaving from Wawa at 73 and 113 at 9 AM. I would li
 ke to meet up with some HOG members at 8:15 am at Hannums and KSU at 8:30 
 to go meet with them. BACA\, Iron Eagles\, Blue Comets are already in and 
 will be at the Wawa on 73 & 113.
CATEGORIES:Inner Club Event
LOCATION:Hannum's Harley-Davidson Sellersville PA\, 3255 State Road\, Sell
 ersville\, PA\, 18960\, United States
GEO:40.344734;-75.305969
X-APPLE-STRUCTURED-LOCATION;VALUE=URI;X-ADDRESS=3255 State Road\, Sellersvi
 lle\, PA\, 18960\, United States;X-APPLE-RADIUS=100;X-TITLE=Hannum's Harle
 y-Davidson Sellersville PA:geo:40.344734,-75.305969
END:VEVENT
BEGIN:VTIMEZONE
TZID:America/New_York
X-LIC-LOCATION:America/New_York
BEGIN:DAYLIGHT
DTSTART:20160313T030000
TZOFFSETFROM:-0500
TZOFFSETTO:-0400
TZNAME:EDT
END:DAYLIGHT
END:VTIMEZONE
END:VCALENDAR