BEGIN:VCALENDAR
VERSION:2.0
PRODID:-//wp-events-plugin.com//7.2.3.1//EN
TZID:America/New_York
X-WR-TIMEZONE:America/New_York
BEGIN:VEVENT
UID:1199@ivhog.org
DTSTART;TZID=America/New_York:20200712T110000
DTEND;TZID=America/New_York:20200712T150000
DTSTAMP:20200303T203044Z
URL:http://www.ivhog.org/events/riverside-bar-grille-lunch-run/
SUMMARY:Riverside Bar & Grille Lunch Run
DESCRIPTION:After meeting lunch ride to Riverside Bar and Grill north of Ea
 ston PA.\n\nSKILL LEVEL: 1- Novice\nCOST: Money for Food and Gas\nDISTANCE
  50 Miles Round Trip
CATEGORIES:IVHOG Rides
LOCATION:WAWA - Forty Foot Rd. Ralphs Corner\, 200 Forty Foot Rd. &amp\; We
 lsh Rd.\, Hatfield\, PA\, 19440\, United States
GEO:40.2630072;-75.31942379999998
X-APPLE-STRUCTURED-LOCATION;VALUE=URI;X-ADDRESS=200 Forty Foot Rd. & Welsh 
 Rd.\, Hatfield\, PA\, 19440\, United States;X-APPLE-RADIUS=100;X-TITLE=WAW
 A - Forty Foot Rd. Ralphs Corner:geo:40.2630072,-75.31942379999998
END:VEVENT
BEGIN:VTIMEZONE
TZID:America/New_York
X-LIC-LOCATION:America/New_York
BEGIN:DAYLIGHT
DTSTART:20200308T030000
TZOFFSETFROM:-0500
TZOFFSETTO:-0400
TZNAME:EDT
END:DAYLIGHT
END:VTIMEZONE
END:VCALENDAR