BEGIN:VCALENDAR
VERSION:2.0
PRODID:-//wp-events-plugin.com//7.2.3.1//EN
TZID:America/New_York
X-WR-TIMEZONE:America/New_York
BEGIN:VEVENT
UID:1277@ivhog.org
DTSTART;TZID=America/New_York:20210530T100000
DTEND;TZID=America/New_York:20210530T150000
DTSTAMP:20210525T011613Z
URL:http://www.ivhog.org/events/rolling-thunder-2021/
SUMMARY:Rolling Thunder 2021
DESCRIPTION:\n\nThis ride is in support of Rolling Thunder\, they are doing
  things different this year with each chapter doing a local ride instead o
 f one in Washington DC (there is an event in DC but it is NOT Rolling Thun
 der). A ride into NJ for a police escort from the rally point\, Hunterdon 
 County 4H Fair Grounds\,  to Washington Crossing Historic Park.\n\n&nbsp\
 ;\n\nhttps://www.rollingthunder1.com/\n\n&nbsp\;\n\n\n\n&nbsp\;
CATEGORIES:In Memorium,IVHOG Rides,Veterans Event
LOCATION:Wawa - 113 & Bethlehem Pike\, 3520 Bethlehem Pike\, Souderton\, Pa
 \, 18964\, United States
GEO:40.31885399999999;-75.3036495
X-APPLE-STRUCTURED-LOCATION;VALUE=URI;X-ADDRESS=3520 Bethlehem Pike\, Soude
 rton\, Pa\, 18964\, United States;X-APPLE-RADIUS=100;X-TITLE=Wawa - 113 & 
 Bethlehem Pike:geo:40.31885399999999,-75.3036495
END:VEVENT
BEGIN:VTIMEZONE
TZID:America/New_York
X-LIC-LOCATION:America/New_York
BEGIN:DAYLIGHT
DTSTART:20210314T030000
TZOFFSETFROM:-0500
TZOFFSETTO:-0400
TZNAME:EDT
END:DAYLIGHT
END:VTIMEZONE
END:VCALENDAR