BEGIN:VCALENDAR
VERSION:2.0
PRODID:-//wp-events-plugin.com//7.2.3.1//EN
TZID:America/New_York
X-WR-TIMEZONE:America/New_York
BEGIN:VEVENT
UID:1080@ivhog.org
DTSTART;TZID=America/New_York:20181027T110000
DTEND;TZID=America/New_York:20181027T130000
DTSTAMP:20181025T002020Z
URL:http://www.ivhog.org/events/saturday-october-27-hannums-chili-cook-off
 -baked-goods/
SUMMARY:SATURDAY OCTOBER 27   HANNUMS CHILI COOK OFF BAKED GOODS
DESCRIPTION:SATURDAY OCTOBER 27&nbsp\;&nbsp\; HANNUMS CHILI COOK OFF BAKED 
 GOODS\nCALLING ALL BAKERS.&nbsp\;&nbsp\; We have volunteers already but mo
 re are always welcome. We will be making baked goods to provide a sweet tr
 eat after your mouth heats up from all that chili tasting.&nbsp\; This is 
 just to provide baked goods\, it's not a contest. So whip up your favorite
  treat and come out to HANNUMS.\n&nbsp\;\nQuestions contact Lisa:&nbsp\;ba
 ckrider62@outlook.com&nbsp\; 215-565-5780
CATEGORIES:Activities
LOCATION:Hannum's Harley-Davidson Sellersville PA\, 3255 State Road\, Sell
 ersville\, PA\, 18960\, United States
GEO:40.344734;-75.305969
X-APPLE-STRUCTURED-LOCATION;VALUE=URI;X-ADDRESS=3255 State Road\, Sellersvi
 lle\, PA\, 18960\, United States;X-APPLE-RADIUS=100;X-TITLE=Hannum's Harle
 y-Davidson Sellersville PA:geo:40.344734,-75.305969
END:VEVENT
BEGIN:VTIMEZONE
TZID:America/New_York
X-LIC-LOCATION:America/New_York
BEGIN:DAYLIGHT
DTSTART:20180311T030000
TZOFFSETFROM:-0500
TZOFFSETTO:-0400
TZNAME:EDT
END:DAYLIGHT
END:VTIMEZONE
END:VCALENDAR