BEGIN:VCALENDAR
VERSION:2.0
PRODID:-//wp-events-plugin.com//7.2.3.1//EN
TZID:America/New_York
X-WR-TIMEZONE:America/New_York
BEGIN:VEVENT
UID:1075@ivhog.org
DTSTART;TZID=America/New_York:20180922T090000
DTEND;TZID=America/New_York:20180922T170000
DTSTAMP:20180909T020812Z
URL:http://www.ivhog.org/events/seaside-heights-nj-motorcycle-rally/
SUMMARY:Seaside Heights NJ Motorcycle Rally
DESCRIPTION:Meet at Hannums\, KSU @ 9:00\, Skill level 2-3\, EZ pass recomm
 ended for ride home.&nbsp\; Helmets Required\, No Firearms\n\nCome and enj
 oy motorcycle vendors and dealers plus live music!\n\nHosted by Hershey Mo
 tel and Captain Hooks Bar. Thursday thru Saturday\, 8 AM to 10 PM.\n\n&nbs
 p\;\n\n
CATEGORIES:IVHOG Rides
LOCATION:Hannums Harley Davidson\, 3255 State Rd\, Sellersville\, PA\, 1896
 0\, United States
GEO:40.343975;-75.305779
X-APPLE-STRUCTURED-LOCATION;VALUE=URI;X-ADDRESS=3255 State Rd\, Sellersvill
 e\, PA\, 18960\, United States;X-APPLE-RADIUS=100;X-TITLE=Hannums Harley D
 avidson:geo:40.343975,-75.305779
END:VEVENT
BEGIN:VTIMEZONE
TZID:America/New_York
X-LIC-LOCATION:America/New_York
BEGIN:DAYLIGHT
DTSTART:20180311T030000
TZOFFSETFROM:-0500
TZOFFSETTO:-0400
TZNAME:EDT
END:DAYLIGHT
END:VTIMEZONE
END:VCALENDAR