BEGIN:VCALENDAR
VERSION:2.0
PRODID:-//wp-events-plugin.com//7.2.3.1//EN
TZID:America/New_York
X-WR-TIMEZONE:America/New_York
BEGIN:VEVENT
UID:791@ivhog.org
DTSTART;TZID=America/New_York:20160702T080000
DTEND;TZID=America/New_York:20160702T180000
DTSTAMP:20160616T141840Z
URL:http://www.ivhog.org/events/skeeters-bbq/
SUMMARY:Skeeters BBQ
DESCRIPTION:DISTANCE: 275 Miles round trip\n\nRIDE RATED: 2 - 3 (INTERMED
 IATE to EXPERT) Beginners will have a tough time with this ride. Mix of B
 ack roads\, Highways\, and Twisty Roads. Heading home will be more of a st
 raight run via Route 125\n\n\, 81 &amp\; 78.\n\nREQUIREMENTS: No requireme
 nts.\n\nCOST: Gas for bike\, and Money for lunch.\n\nSkeeters BBQ\n106 Vi
 ctor Ln\, Monroe Township\, PA 17870\nwww.skeetersbbq.com\n\n[map style="w
 idth: auto\; height:400px\; margin:20px 0px 20px 0px\; border: 1px solid b
 lack\;" address="106 Victor Ln\, Monroe Township\, PA 17870" marker="yes" 
 maptype="HYBRID" z="12"]
CATEGORIES:IVHOG Rides
LOCATION:WAWA 663 & 476\, 1960 John Fries Hwy\, Quakertown\, PA\, 18951\, U
 nited States
GEO:40.4352935;-75.41571779999998
X-APPLE-STRUCTURED-LOCATION;VALUE=URI;X-ADDRESS=1960 John Fries Hwy\, Quake
 rtown\, PA\, 18951\, United States;X-APPLE-RADIUS=100;X-TITLE=WAWA 663 & 4
 76:geo:40.4352935,-75.41571779999998
END:VEVENT
BEGIN:VTIMEZONE
TZID:America/New_York
X-LIC-LOCATION:America/New_York
BEGIN:DAYLIGHT
DTSTART:20160313T030000
TZOFFSETFROM:-0500
TZOFFSETTO:-0400
TZNAME:EDT
END:DAYLIGHT
END:VTIMEZONE
END:VCALENDAR