BEGIN:VCALENDAR
VERSION:2.0
PRODID:-//wp-events-plugin.com//7.2.3.1//EN
TZID:America/New_York
X-WR-TIMEZONE:America/New_York
BEGIN:VEVENT
UID:917@ivhog.org
DTSTART;TZID=America/New_York:20170429T100000
DTEND;TZID=America/New_York:20170429T150000
DTSTAMP:20170303T140118Z
URL:http://www.ivhog.org/events/sky-manor-restaurant-pittstown-nj/
SUMMARY:Sky Manor Restaurant Pittstown\, NJ
DESCRIPTION:Sky Manor Restaurant\n48 Sky Manor Rd\, Pittstown\, NJ 08867\n\
 n\nBack Roads through Frenchtown NJ\nSKILL LEVEL:  2\n80 Miles Round Trip
 \nCOST: Estimate for Lunch and Gas.\n\n[caption id="attachment_5182" align
 ="alignleft" width="150"] HELMET REQUIRED[/caption]\n\n[caption id="attach
 ment_5959" align="alignleft" width="150"] NO GUNS ALLOWED[/caption]
CATEGORIES:IVHOG Rides
LOCATION:Hannum's Harley-Davidson Sellersville PA\, 3255 State Road\, Sell
 ersville\, PA\, 18960\, United States
GEO:40.344734;-75.305969
X-APPLE-STRUCTURED-LOCATION;VALUE=URI;X-ADDRESS=3255 State Road\, Sellersvi
 lle\, PA\, 18960\, United States;X-APPLE-RADIUS=100;X-TITLE=Hannum's Harle
 y-Davidson Sellersville PA:geo:40.344734,-75.305969
END:VEVENT
BEGIN:VTIMEZONE
TZID:America/New_York
X-LIC-LOCATION:America/New_York
BEGIN:DAYLIGHT
DTSTART:20170312T030000
TZOFFSETFROM:-0500
TZOFFSETTO:-0400
TZNAME:EDT
END:DAYLIGHT
END:VTIMEZONE
END:VCALENDAR