BEGIN:VCALENDAR
VERSION:2.0
PRODID:-//wp-events-plugin.com//7.2.3.1//EN
TZID:America/New_York
X-WR-TIMEZONE:America/New_York
BEGIN:VEVENT
UID:1245@ivhog.org
DTSTART;TZID=America/New_York:20210424T103000
DTEND;TZID=America/New_York:20210424T153000
DTSTAMP:20210323T163738Z
URL:http://www.ivhog.org/events/spring-tune-up-ride-2021/
SUMMARY:Spring Tune Up Ride 2021
DESCRIPTION:A leisurely ride to shake off the long winter cobwebs and the C
 ovid nightmare! A stop for lunch along the way\, location TBD! KSU from Fr
 eedom Valley at 10:30 am.
CATEGORIES:Group Trip,H.O.G. Events,IVHOG Rides
LOCATION:Freedom Valley Harley Davidson\, 3255 State Road\, Sellersville\, 
 Pennsylvania\, 18960\, United States
GEO:40.344262;-75.3058603
X-APPLE-STRUCTURED-LOCATION;VALUE=URI;X-ADDRESS=3255 State Road\, Sellersvi
 lle\, Pennsylvania\, 18960\, United States;X-APPLE-RADIUS=100;X-TITLE=Free
 dom Valley Harley Davidson:geo:40.344262,-75.3058603
END:VEVENT
BEGIN:VTIMEZONE
TZID:America/New_York
X-LIC-LOCATION:America/New_York
BEGIN:DAYLIGHT
DTSTART:20210314T030000
TZOFFSETFROM:-0500
TZOFFSETTO:-0400
TZNAME:EDT
END:DAYLIGHT
END:VTIMEZONE
END:VCALENDAR