BEGIN:VCALENDAR
VERSION:2.0
PRODID:-//wp-events-plugin.com//7.2.3.1//EN
TZID:America/New_York
X-WR-TIMEZONE:America/New_York
BEGIN:VEVENT
UID:1139@ivhog.org
DTSTART;TZID=America/New_York:20190504T093000
DTEND;TZID=America/New_York:20190504T160000
DTSTAMP:20190429T163314Z
URL:http://www.ivhog.org/events/sycamore-grill-village-farmer-and-bakery/
SUMMARY:Sycamore Grill/Village Farmer and Bakery
DESCRIPTION:Nice ride through the back roads of PA and NJ. Helmets required
  and no firearms allowed. Meeting at Wawa at Ralph's Corner on Forty Foot 
 Road KSU 9:30 AM Skill Level 2
CATEGORIES:IVHOG Rides
LOCATION:Sycamore Grille\, 92 Main St \, Delaware Water Gap\, PA\, 18327\, 
 United States
GEO:40.9848064;-75.1438202
X-APPLE-STRUCTURED-LOCATION;VALUE=URI;X-ADDRESS=92 Main St \, Delaware Wate
 r Gap\, PA\, 18327\, United States;X-APPLE-RADIUS=100;X-TITLE=Sycamore Gri
 lle:geo:40.9848064,-75.1438202
END:VEVENT
BEGIN:VTIMEZONE
TZID:America/New_York
X-LIC-LOCATION:America/New_York
BEGIN:DAYLIGHT
DTSTART:20190310T030000
TZOFFSETFROM:-0500
TZOFFSETTO:-0400
TZNAME:EDT
END:DAYLIGHT
END:VTIMEZONE
END:VCALENDAR