BEGIN:VCALENDAR
VERSION:2.0
PRODID:-//wp-events-plugin.com//7.2.3.1//EN
TZID:America/New_York
X-WR-TIMEZONE:America/New_York
BEGIN:VEVENT
UID:1066@ivhog.org
DTSTART;TZID=America/New_York:20180722T083000
DTEND;TZID=America/New_York:20180722T160000
DTSTAMP:20180721T110554Z
URL:http://www.ivhog.org/events/the-battle-ride-benefitting-officer-jeff-d
 ivito/
SUMMARY:CANCELLED !!The Battle Ride Benefitting Officer Jeff Divito
DESCRIPTION:A short notice Police escorted ride is being organized for one 
 of the motor deputies in the Chester County Sheriffs Office\, Jeff DiVito.
  Deputy DiVito has recently been diagnosed with cancer and will be out of 
 work indefinitely. The ride will be Sunday July 22nd. If everyone could he
 lp get the word out and rally riders we could have a huge turn out. A ride
  flyer with all the details will be forthcoming. The tentative cost will b
 e $20 for any wheel passenger and rider\, and then FREE to anyone in law e
 nforcement. The ride ends at the Pour House in Exton where there'll be a l
 unch with 15% of every bill going to Jeff.
CATEGORIES:Community Event
LOCATION:wawa - Rt. 202 & 63\, 593 Dekalb Pike\, North Wales\, PA\, 19454\,
  United States
GEO:40.2345687;-75.24061489999997
X-APPLE-STRUCTURED-LOCATION;VALUE=URI;X-ADDRESS=593 Dekalb Pike\, North Wal
 es\, PA\, 19454\, United States;X-APPLE-RADIUS=100;X-TITLE=wawa - Rt. 202 
 & 63:geo:40.2345687,-75.24061489999997
END:VEVENT
BEGIN:VTIMEZONE
TZID:America/New_York
X-LIC-LOCATION:America/New_York
BEGIN:DAYLIGHT
DTSTART:20180311T030000
TZOFFSETFROM:-0500
TZOFFSETTO:-0400
TZNAME:EDT
END:DAYLIGHT
END:VTIMEZONE
END:VCALENDAR