BEGIN:VCALENDAR
VERSION:2.0
PRODID:-//wp-events-plugin.com//7.2.3.1//EN
TZID:America/New_York
X-WR-TIMEZONE:America/New_York
BEGIN:VEVENT
UID:1284@ivhog.org
DTSTART;TZID=America/New_York:20210704T090000
DTEND;TZID=America/New_York:20210704T090000
DTSTAMP:20210701T004738Z
URL:http://www.ivhog.org/events/the-chesapeake-inn-restaurant-marina/
SUMMARY:The Chesapeake Inn Restaurant &amp\; Marina
DESCRIPTION:Leisurely ride thru the country side for lunch and fun on the d
 eck at the Chesapeake Inn. Back in plenty of time to watch Fireworks to ce
 lebrate the 4th of July. KSU 9:00 am!\n\n\n\n&nbsp\;\n\n&nbsp\;\n\nhttps:/
 /www.chesapeakeinn.com\n\n&nbsp\;\n\n&nbsp\;
CATEGORIES:IVHOG Rides
LOCATION:WAWA Ralph's Corner\, 32 Forty Foot Rd\, Hatfield\, Pa\, 19440\, U
 nited States
GEO:40.2628657;-75.31968340000003
X-APPLE-STRUCTURED-LOCATION;VALUE=URI;X-ADDRESS=32 Forty Foot Rd\, Hatfield
 \, Pa\, 19440\, United States;X-APPLE-RADIUS=100;X-TITLE=WAWA Ralph's Corn
 er:geo:40.2628657,-75.31968340000003
END:VEVENT
BEGIN:VTIMEZONE
TZID:America/New_York
X-LIC-LOCATION:America/New_York
BEGIN:DAYLIGHT
DTSTART:20210314T030000
TZOFFSETFROM:-0500
TZOFFSETTO:-0400
TZNAME:EDT
END:DAYLIGHT
END:VTIMEZONE
END:VCALENDAR