BEGIN:VCALENDAR
VERSION:2.0
PRODID:-//wp-events-plugin.com//7.2.3.1//EN
TZID:America/New_York
X-WR-TIMEZONE:America/New_York
BEGIN:VEVENT
UID:1130@ivhog.org
DTSTART;TZID=America/New_York:20190406T161500
DTEND;TZID=America/New_York:20190406T180000
DTSTAMP:20190327T191301Z
URL:http://www.ivhog.org/events/the-escape-room/
SUMMARY:The Escape Room
DESCRIPTION:Must Book Reservation please contact Lisa Gorham if you would l
 ike to attend since we are so close to the date. Cost $27.00 per person.&n
 bsp\;\n\nLisa Gorham Contact information&nbsp\;\n\nCell: 215-565-5780\n\ne
 mail: backrider62@outlook.com&nbsp\;
CATEGORIES:IVHOG Rides
LOCATION:Expedition Escape\, 688 Bethlehem Pike\, Montgomeryville\, PA\, 18
 936\, United States
GEO:40.2537813;-75.24810159999998
X-APPLE-STRUCTURED-LOCATION;VALUE=URI;X-ADDRESS=688 Bethlehem Pike\, Montgo
 meryville\, PA\, 18936\, United States;X-APPLE-RADIUS=100;X-TITLE=Expediti
 on Escape:geo:40.2537813,-75.24810159999998
END:VEVENT
BEGIN:VTIMEZONE
TZID:America/New_York
X-LIC-LOCATION:America/New_York
BEGIN:DAYLIGHT
DTSTART:20190310T030000
TZOFFSETFROM:-0500
TZOFFSETTO:-0400
TZNAME:EDT
END:DAYLIGHT
END:VTIMEZONE
END:VCALENDAR