BEGIN:VCALENDAR
VERSION:2.0
PRODID:-//wp-events-plugin.com//7.2.3.1//EN
TZID:America/New_York
X-WR-TIMEZONE:America/New_York
BEGIN:VEVENT
UID:1131@ivhog.org
DTSTART;TZID=America/New_York:20190406T180000
DTEND;TZID=America/New_York:20190406T213000
DTSTAMP:20190327T191935Z
URL:http://www.ivhog.org/events/the-green-turtle/
SUMMARY:The Green Turtle
DESCRIPTION:Dinner at the Green Turtle after the Escape Room. All are welco
 me. Please join us for a fun night out. Please book before April 4th if yo
 u would like to attend dinner as we need to provide the restaurant with th
 e number of people that will be attending.&nbsp\;&nbsp\;
CATEGORIES:IVHOG Rides
LOCATION:The Green Turtle Sports Bar and Grille\, 1100 Bethlehem Pike\, Nor
 th Wales\, PA\, 19454\, United States
GEO:40.2108987;-75.22570889999997
X-APPLE-STRUCTURED-LOCATION;VALUE=URI;X-ADDRESS=1100 Bethlehem Pike\, North
  Wales\, PA\, 19454\, United States;X-APPLE-RADIUS=100;X-TITLE=The Green T
 urtle Sports Bar and Grille:geo:40.2108987,-75.22570889999997
END:VEVENT
BEGIN:VTIMEZONE
TZID:America/New_York
X-LIC-LOCATION:America/New_York
BEGIN:DAYLIGHT
DTSTART:20190310T030000
TZOFFSETFROM:-0500
TZOFFSETTO:-0400
TZNAME:EDT
END:DAYLIGHT
END:VTIMEZONE
END:VCALENDAR