BEGIN:VCALENDAR
VERSION:2.0
PRODID:-//wp-events-plugin.com//7.2.3.1//EN
TZID:America/New_York
X-WR-TIMEZONE:America/New_York
BEGIN:VEVENT
UID:1191@ivhog.org
DTSTART;TZID=America/New_York:20200503T100000
DTEND;TZID=America/New_York:20200503T140000
DTSTAMP:20200502T171201Z
URL:http://www.ivhog.org/events/the-pagoda-run-2020/
SUMMARY:The Pagoda Run 2020
DESCRIPTION:Wander out back roads to the Pagoda in Reading PA stopping at a
  Wawa or similar on the way.\n\nSKILL LEVEL:  2\nCOST: $10.00 or less for
  food / drink  per person\, plus gas.\nDISTANCE 84 Miles Round Trip
CATEGORIES:IVHOG Rides
LOCATION:Wawa - 113 & Bethlehem Pike\, 3520 Bethlehem Pike\, Souderton\, Pa
 \, 18964\, United States
GEO:40.31885399999999;-75.3036495
X-APPLE-STRUCTURED-LOCATION;VALUE=URI;X-ADDRESS=3520 Bethlehem Pike\, Soude
 rton\, Pa\, 18964\, United States;X-APPLE-RADIUS=100;X-TITLE=Wawa - 113 & 
 Bethlehem Pike:geo:40.31885399999999,-75.3036495
END:VEVENT
BEGIN:VTIMEZONE
TZID:America/New_York
X-LIC-LOCATION:America/New_York
BEGIN:DAYLIGHT
DTSTART:20200308T030000
TZOFFSETFROM:-0500
TZOFFSETTO:-0400
TZNAME:EDT
END:DAYLIGHT
END:VTIMEZONE
END:VCALENDAR