BEGIN:VCALENDAR
VERSION:2.0
PRODID:-//wp-events-plugin.com//7.2.3.1//EN
TZID:America/New_York
X-WR-TIMEZONE:America/New_York
BEGIN:VEVENT
UID:753@ivhog.org
DTSTART;TZID=America/New_York:20160530T080000
DTEND;TZID=America/New_York:20160530T130000
DTSTAMP:20160508T131054Z
URL:http://www.ivhog.org/events/whitemarsh-cemetery/
SUMMARY:Whitemarsh Cemetery - Leaving from West Main Diner Lansdale
DESCRIPTION:If you are having breakfast with us at West Main Diner\, please
  show up at 8:00 AM\, if not\, be there by 9:00 am KSU\n\nDISTANCE: 30 M
 iles One Way.\n\nRIDE RATED: 2 (INTERMEDIATE) Ride through Valley Forge 
 Park and Ride to Whitemarsh From Memorial Day Ceremony. There will be Vari
 ous stops in Valley Forge Park. The ride may or may not be suited for new 
 riders due to some of the Curves and Stops in Valley Forge Park.\n\nREQU
 IREMENTS: NONE\n\nCOST: NONE Required other than Gas for the bike\, and I
 f you want to go out to eat after the ride. (No Meal Planned)\n\n[map styl
 e="width: auto\; height:400px\; margin:20px 0px 20px 0px\; border: 1px sol
 id black\;" address="1169 Limekiln Pike\, Ambler\, PA 19002" marker="yes" 
 maptype="HYBRID" z="11"]
CATEGORIES:IVHOG Rides
LOCATION:West Main Diner\, 805 W Main St\, Lansdale\, PA\, 19446\, United S
 tates
GEO:40.2473911;-75.29280110000002
X-APPLE-STRUCTURED-LOCATION;VALUE=URI;X-ADDRESS=805 W Main St\, Lansdale\, 
 PA\, 19446\, United States;X-APPLE-RADIUS=100;X-TITLE=West Main Diner:geo:
 40.2473911,-75.29280110000002
END:VEVENT
BEGIN:VTIMEZONE
TZID:America/New_York
X-LIC-LOCATION:America/New_York
BEGIN:DAYLIGHT
DTSTART:20160313T030000
TZOFFSETFROM:-0500
TZOFFSETTO:-0400
TZNAME:EDT
END:DAYLIGHT
END:VTIMEZONE
END:VCALENDAR