BEGIN:VCALENDAR
VERSION:2.0
PRODID:-//wp-events-plugin.com//7.2.3.1//EN
TZID:America/New_York
X-WR-TIMEZONE:America/New_York
BEGIN:VEVENT
UID:1207@ivhog.org
DTSTART;TZID=America/New_York:20200926T073000
DTEND;TZID=America/New_York:20200926T120000
DTSTAMP:20200810T152636Z
URL:http://www.ivhog.org/events/wounded-warrior-escort-2020/
SUMMARY:CANCELLED:Wounded Warrior Escort 2020
DESCRIPTION:THE 2020 WOUNDED HERO 5K HAS BEEN CANCELLED AND RESCHEDULED FOR
  JUNE 2021\n\n\n\nNew Date: June 2021=]\n\n\nDue to the ongoing state man
 dates due to the corona virus\, our 2020 Wounded Hero 5k has sadly been ca
 ncelled.  We will send our 2021 date out as soon as we can and we look fo
 rward to seeing you all then!  We are forever grateful for your continued
  support!\n\n\n\n
CATEGORIES:IVHOG Rides
LOCATION:wawa - Rt. 202 & 63\, 593 Dekalb Pike\, North Wales\, PA\, 19454\,
  United States
GEO:40.2345687;-75.24061489999997
X-APPLE-STRUCTURED-LOCATION;VALUE=URI;X-ADDRESS=593 Dekalb Pike\, North Wal
 es\, PA\, 19454\, United States;X-APPLE-RADIUS=100;X-TITLE=wawa - Rt. 202 
 & 63:geo:40.2345687,-75.24061489999997
END:VEVENT
BEGIN:VTIMEZONE
TZID:America/New_York
X-LIC-LOCATION:America/New_York
BEGIN:DAYLIGHT
DTSTART:20200308T030000
TZOFFSETFROM:-0500
TZOFFSETTO:-0400
TZNAME:EDT
END:DAYLIGHT
END:VTIMEZONE
END:VCALENDAR