BEGIN:VCALENDAR
VERSION:2.0
PRODID:-//wp-events-plugin.com//7.2.3.1//EN
TZID:America/New_York
X-WR-TIMEZONE:America/New_York
BEGIN:VEVENT
UID:1084@ivhog.org
DTSTART;TZID=America/New_York:20181215T100000
DTEND;TZID=America/New_York:20181215T153000
DTSTAMP:20181203T184611Z
URL:http://www.ivhog.org/events/wreaths-across-america-help/
SUMMARY:Wreaths Across America Help
DESCRIPTION:&nbsp\;\n\nJoin us on National Wreaths Across America DayDecemb
 er 15\, 2018\nEach December on National Wreaths Across America Day\, the&n
 bsp\; mission is&nbsp\; to Remember\, Honor and Teach is carried out by co
 ordinating wreath-laying ceremonies. This year we will be helping out at W
 ashington Crossing National Cemetery.&nbsp\;\n\nThere will be a ride for t
 his (weather dependent) and for those that want to cage too. We will be le
 aving Hannum's at 10:00 to drive down. Ceremony starts at 11:15.&nbsp\;\n\
 nYou must register on their site to volunteer and hopefully make a donatio
 n too. There are over 14\,000 graves at this location. See the link below 
 to register. Please sign up on our site too for a head count.\n\nhttps://w
 reathsacrossamerica.org/pages/17127/Overview/?relatedId=0\n\n&nbsp\;\n\n&n
 bsp\;\n\n&nbsp\;
CATEGORIES:Community Event,IVHOG Rides
LOCATION:Washington Crossing National Cemetery\, 830 Highland Road\, Newtow
 n\, PA\, 18940\, United States
X-APPLE-STRUCTURED-LOCATION;VALUE=URI;X-ADDRESS=830 Highland Road\, Newtown
 \, PA\, 18940\, United States;X-APPLE-RADIUS=100;X-TITLE=Washington Crossi
 ng National Cemetery:geo:0,0
END:VEVENT
BEGIN:VTIMEZONE
TZID:America/New_York
X-LIC-LOCATION:America/New_York
BEGIN:STANDARD
DTSTART:20181104T010000
TZOFFSETFROM:-0400
TZOFFSETTO:-0500
TZNAME:EST
END:STANDARD
END:VTIMEZONE
END:VCALENDAR