BEGIN:VCALENDAR
VERSION:2.0
PRODID:-//wp-events-plugin.com//7.2.3.1//EN
TZID:America/New_York
X-WR-TIMEZONE:America/New_York
BEGIN:VEVENT
UID:1218@ivhog.org
DTSTART;TZID=America/New_York:20200516T150000
DTEND;TZID=America/New_York:20200516T160000
DTSTAMP:20200509T155152Z
URL:https://www.ivhog.org/events/90th-birthday-ride/
SUMMARY:90th Birthday Ride
DESCRIPTION:A longtime\, good friend of mine’s grandmother is turning 90 
 next week. Unfortunately\, due to the current Covid 19 situation\, the par
 ty that they had planned for her had to be cancelled. I have been asked by
  my friend to see if we could get a group together to do a ride by for her
  birthday. We will be meeting at Pennfield Middle School on Forty Foot Rd 
 in Hatfield on Saturday\, May 16th\, KSU at 3:00 PM. I hope that you can t
 ake time out of your schedules to help celebrate this milestone.
ATTACH;FMTTYPE=image/jpeg:https://www.ivhog.org/wp-content/uploads/90th-Bi
 rthday.png
CATEGORIES:Community Event,Other Club Event
LOCATION:Pennfield Middle School\, 726 Forty Foot Rd\,\, Hatfield\, PA\, 19
 440\, United States
GEO:40.273108;-75.311517
X-APPLE-STRUCTURED-LOCATION;VALUE=URI;X-ADDRESS=726 Forty Foot Rd\,\, Hatfi
 eld\, PA\, 19440\, United States;X-APPLE-RADIUS=100;X-TITLE=Pennfield Midd
 le School:geo:40.273108,-75.311517
END:VEVENT
BEGIN:VTIMEZONE
TZID:America/New_York
X-LIC-LOCATION:America/New_York
BEGIN:DAYLIGHT
DTSTART:20200308T030000
TZOFFSETFROM:-0500
TZOFFSETTO:-0400
TZNAME:EDT
END:DAYLIGHT
END:VTIMEZONE
END:VCALENDAR